BEGIN:VCALENDAR
VERSION:2.0
PRODID:-//wp-events-plugin.com//7.2.3.1//EN
TZID:Europe/Paris
X-WR-TIMEZONE:Europe/Paris
BEGIN:VEVENT
UID:16@clcv-finistere.fr
DTSTART;TZID=Europe/Paris:20241003T140000
DTEND;TZID=Europe/Paris:20241003T170000
DTSTAMP:20240710T092019Z
URL:https://clcv-finistere.fr/evenements/conseil-dadministration/
SUMMARY:Conseil d'administration
DESCRIPTION:
CATEGORIES:Événement départemental
LOCATION:Châteaulin - Salle Juvénat Notre-Dame\, 244 Penfeunteun\, Châte
 aulin\, 29150\, France
X-APPLE-STRUCTURED-LOCATION;VALUE=URI;X-ADDRESS=244 Penfeunteun\, Châteaul
 in\, 29150\, France;X-APPLE-RADIUS=100;X-TITLE=Châteaulin - Salle Juvéna
 t Notre-Dame:geo:0,0
END:VEVENT
BEGIN:VTIMEZONE
TZID:Europe/Paris
X-LIC-LOCATION:Europe/Paris
BEGIN:DAYLIGHT
DTSTART:20240331T030000
TZOFFSETFROM:+0100
TZOFFSETTO:+0200
TZNAME:CEST
END:DAYLIGHT
END:VTIMEZONE
END:VCALENDAR