BEGIN:VCALENDAR
VERSION:2.0
PRODID:-//wp-events-plugin.com//7.2.3.1//EN
TZID:Europe/Paris
X-WR-TIMEZONE:Europe/Paris
BEGIN:VEVENT
UID:15@clcv-finistere.fr
DTSTART;TZID=Europe/Paris:20240907T090000
DTEND;TZID=Europe/Paris:20240907T180000
DTSTAMP:20240710T090618Z
URL:https://clcv-finistere.fr/evenements/forum-des-associations-de-quimper
 /
SUMMARY:Forum des associations de Quimper
DESCRIPTION:Depuis 2021\, le Forum des associations\, qui était axé sur l
 e sport lors des précédentes éditions\, est ouvert aux associations cul
 turelles\, socioculturelles et de solidarité. Organisée par la ville de 
 Quimper\, cette nouvelle édition se déroulera le samedi 7 septembre de 9
 h à 18h à l’Artimon\, au Parc des expositions de Quimper-Cornouaille. 
 Au total\, près de 210 associations et structures seront présentes toute
  la journée.
CATEGORIES:Événements divers
LOCATION:Parc des expositions de Quimper-Cornouaille\, 32 Bis Rue de Stang 
 Bihan\, QUIMPER\, 29000\, France
X-APPLE-STRUCTURED-LOCATION;VALUE=URI;X-ADDRESS=32 Bis Rue de Stang Bihan\,
  QUIMPER\, 29000\, France;X-APPLE-RADIUS=100;X-TITLE=Parc des expositions 
 de Quimper-Cornouaille:geo:0,0
END:VEVENT
BEGIN:VTIMEZONE
TZID:Europe/Paris
X-LIC-LOCATION:Europe/Paris
BEGIN:DAYLIGHT
DTSTART:20240331T030000
TZOFFSETFROM:+0100
TZOFFSETTO:+0200
TZNAME:CEST
END:DAYLIGHT
END:VTIMEZONE
END:VCALENDAR